BEGIN:VCALENDAR
VERSION:2.0
PRODID:Imitheme.com 
BEGIN:VEVENT
UID:20260422T1102211870132804
DTSTAMP;TZID=UTC:2026-04-22 11:02:21
DTSTART;TZID=America/Los_Angeles:20260422T110221
DTEND;TZID=America/Los_Angeles:20260422T110221
SUMMARY:Presentazione del libro "1918. Spie al fronte" di Mauro Trevisan
LOCATION:Villa Tiepolo Passi
DESCRIPTION:Erodito*, un topo di biblioteca, presenta gli incontri letterari di Villa Tiepolo Passi Sabato 24 maggio 1918. Spie al fronte di Mauro Trevisan Un romanzo che narra, tra il vero e il verosimile, due brillanti operazioni di spionaggio con protagonisti Camillo De Carlo, Alessandro Tandura e i servizi informativi del Regio Esercito Italiano, e ci riporta, nel racconto, al tempo in cui Villa Tiepolo Passi fu Ospedale Chirurgico Militare durante la Grande Guerra.   ore 15:30 Visita guidata della Villa e del parco storico È richiesta la prenotazione Per info, costi e prenotazioni clicca qui   ore 17:15 Incontro con l\'autore Ingresso libero fino a esaurimento posti   Parcheggio auto interno   * Erodito è un personaggio ideato da Fernando Rigon  
URL:https://www.villatiepolopassi.it/eventer/presentazione-del-libro-1918-spie-al-fronte-di-mauro-trevisan/
END:VEVENT
END:VCALENDAR
