BEGIN:VCALENDAR
VERSION:2.0
PRODID:Imitheme.com 
BEGIN:VEVENT
UID:20260419T142312832661387
DTSTAMP;TZID=UTC:2026-04-19 14:23:12
DTSTART;TZID=America/Los_Angeles:20260419T142312
DTEND;TZID=America/Los_Angeles:20260419T142312
SUMMARY:Geführte Tour – Sonntagvormittag
LOCATION:
DESCRIPTION:Ein faszinierender Rundgang durch die Geschichte, Kunst, und Landschaft. Führt der Rundgang durch die Außen und Innenbereiche, begleitet von einer Erzählung über das Leben in der Villa, gestern und heute: die große Sonnenuhr, die spektakuläre Perspektive, die prächtig dekorierten und mit Fresken bemalten Räume des Herrenhauses, der Garten „all’Italiana“ und der romantische Park, der Wasserkreislauf.   Die Führung wird auf Italienisch gehalten: schriftliche und audiovisuelle Materialien in Englisch werden den ausländischen Besuchern zur Verfügung gestellt über Beschilderung und eine mobile App (iOS und Android).   Dauer: 1 Stunde und 30 Minuten   Nützliche Informationen Der Eingang zur Villa befindet sich in der Via Brigata Marche 24, Carbonera (TV) (historischen Tor). Wir bitten Besucher, 15 Minuten früher einzutreffen. Für Autos steht ein interner Parkplatz zur Verfügung. Die Besichtigung findet auch bei Regen statt. Die Besichtigung ist für Besucher mit eingeschränkter Mobilität nur teilweise zugänglich (Treppen zum ersten Stock der Villa, Gras- und Kieswege im Park).   Eintritt Voller Preis: 13 €/Person Ermäßigter Preis: 10 €/Person Studenten (8-21 Jahre), Einwohner von Carbonera, Mitglieder des „Associazione per le Ville Venete“, FAI-Mitglieder, Gäste der Foresteria di Villa Tiepolo Passi, Besuchern mit Behinderungen Kostenlos: Kinder bis zu 7 Jahren   Reservierung Nur auf Reservierung Buchen Sie an online oder +39 329 7406219 / info@villatiepolopassi.it
URL:https://www.villatiepolopassi.it/de/eventer/gefuehrte-tour-sonntagvormittag-2/
END:VEVENT
END:VCALENDAR
